BEGIN:VCALENDAR
VERSION:2.0
PRODID:-//Volt Europa//Events//EN
CALSCALE:GREGORIAN
METHOD:PUBLISH
BEGIN:VEVENT
UID:eindejaarsborrel-volt-nhn-1702216800@voltnederland.org
DTSTAMP:20260423T101922Z
DTSTART;TZID=Europe/Amsterdam:20231210T150000
DTEND;TZID=Europe/Amsterdam:20231210T180000
SUMMARY:Eindejaarsborrel Volt NHN
DESCRIPTION:Aankomende zondag is de eindejaarsborrel van Volt Noord-Holland
  Noord! Ben jij erbij? Hier is alle praktische informatie over de borrel va
 n aankomende zaterdag: Wanneer: Zondag 10 december 2023\, van 15.00 uur tot
  18.00 uur. Waar: The Scrapyard\, Pettemerstraat 15\, 1823 CW Alkmaar. Park
 eren kan er vlak tegenover\, maar Station Alkmaar is ook erg dichtbij! Voor
  wie: Voor alle Volters\, maar aanhang is uiteraard welkom! Zolang je ieder
 een maar netjes aanmeldt. Kosten: geen! De drankjes en hapjes zijn 
LOCATION:The Scrapyard\, Pettemerstraat 15\, 1823 CW Alkmaar
URL:https://voltnederland.org/agenda/eindejaarsborrel-volt-nhn
END:VEVENT
END:VCALENDAR
