BEGIN:VCALENDAR
VERSION:2.0
PRODID:-//Volt Europa//Events//EN
CALSCALE:GREGORIAN
METHOD:PUBLISH
BEGIN:VEVENT
UID:eindejaarsborrel-alkmaar-1734546600@voltnederland.org
DTSTAMP:20260423T101922Z
DTSTART;TZID=Europe/Amsterdam:20241218T193000
DTEND;TZID=Europe/Amsterdam:20241218T223000
SUMMARY:Eindejaarsborrel Alkmaar
DESCRIPTION:Het einde van het jaar nadert en graag willen dit gezamenlijk m
 et jullie afsluiten. In Alkmaar zijn een aantal Volters de eerste stappen a
 an het zetten om deel te gaan nemen aan de gemeenteraadsverkiezingen van 20
 26. Jullie zullen begrijpen dat we alle Volters hierbij nodig hebben.  Om t
 e bouwen aan een prachtige Alkmaarsche afdeling moeten we elkaar inspireren
 \, wakker houden\, van gedachten wisselen en enthousiasmeren. Dit kan echte
 r alleen als we elkaar zien.  De eindejaarsborrel van de 20e is 
LOCATION:De Laatmakers\, Laat 27\, 1811 EB Alkmaar
URL:https://voltnederland.org/agenda/eindejaarsborrel-alkmaar
END:VEVENT
END:VCALENDAR
