BEGIN:VCALENDAR
VERSION:2.0
PRODID:-//Volt Europa//Events//EN
CALSCALE:GREGORIAN
METHOD:PUBLISH
BEGIN:VEVENT
UID:dusseldorf-d-campagne-voor-kommunalwahl-1757145600@voltnederland.org
DTSTAMP:20260423T113923Z
DTSTART;TZID=Europe/Amsterdam:20250906T100000
DTEND;TZID=Europe/Amsterdam:20250906T180000
SUMMARY:Düsseldorf (D): Campagne voor KommunalWahl
DESCRIPTION:Op 14 september is het KommunalWahl in Nordrhein-Westfalen (NRW
 ). Volt doet in vele steden mee\, en natuurlijk ook in Düsseldorf. Op 6 se
 ptember gaat er in ieder geval een team Volters vanuit Den Bosch en Eindhov
 en helpen om de zichtbaarheid nog wat te vergroten. In Düsseldorf is Anne 
 Hahn de Spitzenkandidatin voor Volt. Campagne voeren over de grens is super
  leerzaam en leuk! En natuurlijk ben je ook van harte welkom in andere NRW 
 steden\, zoals Münster\, Duisburg\, Dortmund\, Aken\, Bonn en Keulen! 
LOCATION:Düsseldorf\, Schadowstrasse\, 40212 Düsseldorf\, Deutschland
URL:https://voltnederland.org/agenda/dusseldorf-d-campagne-voor-kommunalwah
 l
END:VEVENT
END:VCALENDAR
