BEGIN:VCALENDAR
VERSION:2.0
PRODID:-//Volt Europa//Events//EN
CALSCALE:GREGORIAN
METHOD:PUBLISH
BEGIN:VEVENT
UID:dusseldorf-d-campagne-btw-2025-1736589600@voltnederland.org
DTSTAMP:20260423T102048Z
DTSTART;TZID=Europe/Amsterdam:20250111T110000
DTEND;TZID=Europe/Amsterdam:20250111T200000
SUMMARY:Düsseldorf (D) - Campagne BTW 2025
DESCRIPTION:Op 23 februari 2025 is het BundesTagWahl (BTW) in Duitsland. En
  Volt maakt nu serieus kans om in het Duitse federale parlement te komen. D
 aarom wordt er ieder weekend in januari en februari in vele steden en dorpe
 n campagne gevoerd. En natuurlijk komen er Volt leden uit andere Europese l
 anden helpen! Sluit ook aan\, en laat zien dat we een echte Europese partij
  zijn. En je hoeft zelfs geen (perfect) Duits te spreken! Voor zaterdag 11 
 januari is er een grote campagnedag in Düsseldorf voorzien. Kij
LOCATION:Konrad-Adenauer-Platz 14\, 40210 Düsseldorf\, Duitsland
URL:https://voltnederland.org/agenda/dusseldorf-d-campagne-btw-2025
END:VEVENT
END:VCALENDAR
