BEGIN:VCALENDAR
VERSION:2.0
PRODID:-//Volt Europa//Events//EN
CALSCALE:GREGORIAN
METHOD:PUBLISH
BEGIN:VEVENT
UID:dusseldorf-d-campagne-btw-2025-2-1738401300@voltnederland.org
DTSTAMP:20260423T144111Z
DTSTART;TZID=Europe/Amsterdam:20250201T101500
DTEND;TZID=Europe/Amsterdam:20250201T200000
SUMMARY:Düsseldorf (D) - Campagne BTW 2025
DESCRIPTION:Op 23 februari 2025 is het Bundestagswahl (BTW) in Duitsland. E
 n Volt maakt nu serieus kans om in het Duitse federale parlement te komen. 
 Daarom wordt er ieder weekend in januari en februari in vele steden en dorp
 en campagne gevoerd. En natuurlijk komen er Volt leden uit andere Europese 
 landen helpen! Sluit ook aan\, en laat zien dat we een echte Europese parti
 j zijn. En je hoeft zelfs geen (perfect) Duits te spreken! Voor zaterdag 1 
 februari is er een grote campagnedag in Düsseldorf voorzien. Vo
LOCATION:Düsseldorf Hauptbahnhof - Konrad-Adenauer-Platz 14\, 40210 Düsse
 ldorf\, Duitsland
URL:https://voltnederland.org/agenda/dusseldorf-d-campagne-btw-2025-2
END:VEVENT
END:VCALENDAR
