BEGIN:VCALENDAR
VERSION:2.0
PRODID:-//Volt Europa//Events//EN
CALSCALE:GREGORIAN
METHOD:PUBLISH
BEGIN:VEVENT
UID:drugs-1725557400@voltnederland.org
DTSTAMP:20260423T143926Z
DTSTART;TZID=Europe/Amsterdam:20240905T193000
DTEND;TZID=Europe/Amsterdam:20240905T220000
SUMMARY:Politieke avond Enschede - Een dosis drugs
DESCRIPTION:Wat: Volt Enschede Politieke avond  Voor wie:  Volt-leden en 
 iedereen die Volt interessant vindt Wanneer:  5 sept van 19:30 tot 22:00\,
  inloop 19:00\, borrel vanaf 21:00 Waar:  tbd Onderwerp:  Een dosis drugs 
 Algemeen: We willen iedereen die Volt interessant vindt een plek bieden om 
 elkaar te leren kennen\, en te praten over Enschede\, Europa\, en politiek.
  Het idee is vooral om je eigen horizon te verbreden\, kennis te maken met 
 nieuwe/gezellige mensen en in een ontspannen\, open en respectvolle omgev
LOCATION:Enschede
URL:https://voltnederland.org/overijssel/agenda/drugs
END:VEVENT
END:VCALENDAR
