BEGIN:VCALENDAR
VERSION:2.0
PRODID:-//Volt Europa//Events//EN
CALSCALE:GREGORIAN
METHOD:PUBLISH
BEGIN:VEVENT
UID:doe-iets-zeeuws-ontdek-europa-1758735000@voltnederland.org
DTSTAMP:20260423T102050Z
DTSTART;TZID=Europe/Amsterdam:20250924T193000
DTEND;TZID=Europe/Amsterdam:20250924T230000
SUMMARY:Doe iets Zeeuws! Ontdek Europa
DESCRIPTION:Doe iets nieuws en kom Europa ontdekken! De oude politiek wijst
  naar Europa als zondebok.Maar juist in Europa worden beslissingen genomen 
 die regio’s zoals Zeeland vooruithelpen. Volt laat zien dat het tijd is v
 oor iets nieuws: eerlijke politiek die uitlegt hoe Europa werkt en het bela
 ng voor en van Zeeland! Kom daarom een avond lang in gesprek met Europarlem
 entariër Reinier van Lanschot en kandidaat Tweede Kamerleden. Ontdek hoe d
 e politiek werkt en ervaar hoe Europa onze regio leefbaar maakt. 
LOCATION:Oostkerkplein 1\, 4331 TL Middelburg
URL:https://voltnederland.org/agenda/doe-iets-zeeuws-ontdek-europa
END:VEVENT
END:VCALENDAR
