BEGIN:VCALENDAR
VERSION:2.0
PRODID:-//Volt Europa//Events//EN
CALSCALE:GREGORIAN
METHOD:PUBLISH
BEGIN:VEVENT
UID:diversity-day-kansengelijkheid-centraal-1759856400@voltnederland.org
DTSTAMP:20260423T101922Z
DTSTART;TZID=Europe/Amsterdam:20251007T190000
DTEND;TZID=Europe/Amsterdam:20251007T220000
SUMMARY:🌈 Diversity Day – Kansengelijkheid centraal
DESCRIPTION:Vier Diversity Day met Volt – Een ode aan anders zijn Op Dive
 rsity Day nodigt Volt je van harte uit voor een inspirerend en verbindend e
 vent dat draait om inclusie\, intersektionaliteit en het vieren van verschi
 l. Want anders zijn is niet iets om te verbergen – het is iets om te omar
 men. Sophie-Anne Onland – spreker\, schrijver en activist – opent de av
 ond met een krachtige speech over wat het betekent om je anders te voelen e
 n anders te zijn. Of je nu leeft met een zichtbare of onzichtbare beperk
LOCATION:LE:EN Heuveloord 140 3523 CK\, Utrecht
URL:https://voltnederland.org/agenda/diversity-day-kansengelijkheid-centraa
 l
END:VEVENT
END:VCALENDAR
