BEGIN:VCALENDAR
VERSION:2.0
PRODID:-//Volt Europa//Events//EN
CALSCALE:GREGORIAN
METHOD:PUBLISH
BEGIN:VEVENT
UID:discussie-avond-financieel-ravijnjaar-en-dan-1744653600@voltnederland.o
 rg
DTSTAMP:20260423T102052Z
DTSTART;TZID=Europe/Amsterdam:20250414T200000
DTEND;TZID=Europe/Amsterdam:20250414T220000
SUMMARY:Discussie-avond: Financieel ravijnjaar en dan?
DESCRIPTION:Gemeenten koersen af op het financiële ravijnjaar in 2026. Bet
 ekent dit een horrorscenario of valt het allemaal wel mee? En welke priorit
 eiten stellen wij als Volt in ons beleids- en verkiezingsprogramma\, rekeni
 ng houdend met de realiteit?  Interessant voer voor een discussie-avond. Ko
 m dus meepraten op 14 april en vertel wat jij als lid belangrijk vindt. Dez
 e avond word je eerst meegenomen in de situatie van gemeente Breda in 2025.
  Daarna kijken we welke keuzes de gemeente al gemaakt heeft dit 
LOCATION:Parkzicht\, Paul Windhausenweg 1 in Breda
URL:https://voltnederland.org/agenda/discussie-avond-financieel-ravijnjaar-
 en-dan
END:VEVENT
END:VCALENDAR
