BEGIN:VCALENDAR
VERSION:2.0
PRODID:-//Volt Europa//Events//EN
CALSCALE:GREGORIAN
METHOD:PUBLISH
BEGIN:VEVENT
UID:dialoogsessie-pariteit-1762540200@voltnederland.org
DTSTAMP:20260423T143946Z
DTSTART;TZID=Europe/Amsterdam:20251107T193000
DTEND;TZID=Europe/Amsterdam:20251107T210000
SUMMARY:Dialoogsessie Pariteit - GAAT NIET DOOR
DESCRIPTION:Let op: Dit event gaat niet door en wordt verplaatst naar volge
 nd jaar.  Op 7 november ben je van harte welkom op het Provinciehuis\, Turf
 singel 83 in Groningen voor een dialoogsessie over pariteit\, waarin we sam
 en in gesprek gaan. In een veilige setting\, waar iedereen wordt gehoord en
  gezien\, nemen we de tijd om écht met elkaar te praten over het onderwerp
  pariteit. Deze sessie draait niet om zenden\, maar om luisteren\, delen en
  begrijpen. Jouw aanwezigheid maakt het verschil.
LOCATION:Provinciehuis
URL:https://voltnederland.org/agenda/dialoogsessie-pariteit
END:VEVENT
END:VCALENDAR
