BEGIN:VCALENDAR
VERSION:2.0
PRODID:-//Volt Europa//Events//EN
CALSCALE:GREGORIAN
METHOD:PUBLISH
BEGIN:VEVENT
UID:denhaag-lezing-over-china-1699556400@voltnederland.org
DTSTAMP:20260423T101922Z
DTSTART;TZID=Europe/Amsterdam:20231109T200000
DTEND;TZID=Europe/Amsterdam:20231109T220000
SUMMARY:Den Haag - Lezing over China
DESCRIPTION:Wie van de 3? China als systeemrivaal\, concurrent en/of samenw
 erkingspartner van Europa. Zo wordt de ingewikkelde relatie met China vaak 
 omschreven. Welk label beschrijft China in relatie tot Europa het beste? Op
  deze avond gaan China-deskundigen en Volt-leden Sanne van der Lugt en Fred
  Sengers dieper in op de betekenis van deze drie rollen die China wordt toe
 bedeeld en wat dit nu in de praktijk betekent voor Nederland en Europa.  Sa
 nne van der Lugt is als China-deskundige verbonden aan het Leid
LOCATION:Koninginnegracht 7 in Den Haag
URL:https://voltnederland.org/agenda/denhaag-lezing-over-china
END:VEVENT
END:VCALENDAR
