BEGIN:VCALENDAR
VERSION:2.0
PRODID:-//Volt Europa//Events//EN
CALSCALE:GREGORIAN
METHOD:PUBLISH
BEGIN:VEVENT
UID:den-haag-maandelijkse-borrel-1709838000@voltnederland.org
DTSTAMP:20260423T142332Z
DTSTART;TZID=Europe/Amsterdam:20240307T200000
DTEND;TZID=Europe/Amsterdam:20240307T223000
SUMMARY:Den Haag - Maandelijkse borrel
DESCRIPTION:Terug van weggeweest: De maandelijkse borrel van Volt Den Haag.
  Ontmoet mede-Volters\, ga in gesprek over actualiteiten en klets gezellig 
 met elkaar! We nodigen nieuwe leden en geïnteresseerden ook van harte uit 
 om naar de borrel te komen!  Vragen rondom toegankelijkheid kunnen gesteld 
 worden via  denhaag@voltnederland.org
LOCATION:Grote Markt 8A\, 2511 BG\, Den Haag
URL:https://voltnederland.org/agenda/den-haag-maandelijkse-borrel
END:VEVENT
END:VCALENDAR
