BEGIN:VCALENDAR
VERSION:2.0
PRODID:-//Volt Europa//Events//EN
CALSCALE:GREGORIAN
METHOD:PUBLISH
BEGIN:VEVENT
UID:den-haag-maandelijkse-borrel-november-1698951600@voltnederland.org
DTSTAMP:20260423T144124Z
DTSTART;TZID=Europe/Amsterdam:20231102T200000
DTEND;TZID=Europe/Amsterdam:20231102T233000
SUMMARY:Den Haag - maandelijkse borrel - november
DESCRIPTION:Je bent van harte welkom vanaf 20:00 uur. De locatie deze keer 
 is Cafe Barlow\, Plein 15\, Den Haag. Je hoeft je niet aan te melden voor d
 eze borrel. Neem gerust je vrienden mee!  Voor vragen kan je contact opneme
 n met Roel Noordhof via +316 52541447
LOCATION:Cafe Barlow\, Plein 15\, Den Haag
URL:https://voltnederland.org/agenda/den-haag-maandelijkse-borrel-november
END:VEVENT
END:VCALENDAR
