BEGIN:VCALENDAR
VERSION:2.0
PRODID:-//Volt Europa//Events//EN
CALSCALE:GREGORIAN
METHOD:PUBLISH
BEGIN:VEVENT
UID:den-bosch-volt-campagne-met-poffertjes-1717228800@voltnederland.org
DTSTAMP:20260423T102135Z
DTSTART;TZID=Europe/Amsterdam:20240601T100000
DTEND;TZID=Europe/Amsterdam:20240601T170000
SUMMARY:Den Bosch - Volt campagne met poffertjes
DESCRIPTION:We gaan in het kader van de campagne op zaterdag in de Kerkstra
 at in Den Bosch een kraampje en een partytent neerzetten met statafels prom
 otie borden. We gaan poffertjes bakken en weggeven.
LOCATION:Kerkstraat\, Den Bosch
URL:https://voltnederland.org/agenda/den-bosch-volt-campagne-met-poffertjes
END:VEVENT
END:VCALENDAR
