BEGIN:VCALENDAR
VERSION:2.0
PRODID:-//Volt Europa//Events//EN
CALSCALE:GREGORIAN
METHOD:PUBLISH
BEGIN:VEVENT
UID:den-bosch-community-borrel-1777138200@voltnederland.org
DTSTAMP:20260423T101913Z
DTSTART;TZID=Europe/Amsterdam:20260425T193000
DTEND;TZID=Europe/Amsterdam:20260425T230000
SUMMARY:Den Bosch  - Community Borrel
DESCRIPTION:Zin in wat gezelligheid\, politiek gebrabbel en/of wil je kenni
 smaken met andere Volt leden? We zien je dan.
LOCATION:De Jongens van de Wit\, Hofvijver 4\, Den Bosch
URL:https://voltnederland.org/agenda/den-bosch-community-borrel
END:VEVENT
END:VCALENDAR
