BEGIN:VCALENDAR
VERSION:2.0
PRODID:-//Volt Europa//Events//EN
CALSCALE:GREGORIAN
METHOD:PUBLISH
BEGIN:VEVENT
UID:debattraining-grv-2026-1750959000@voltnederland.org
DTSTAMP:20260423T101913Z
DTSTART;TZID=Europe/Amsterdam:20250626T193000
DTEND;TZID=Europe/Amsterdam:20250626T220000
SUMMARY:Debattraining GRV 2026
DESCRIPTION:Denk je erover je kandidaat te stellen voor de gemeenteraadsver
 kiezingen van 2026 namens Volt? Of heb je dat al gedaan? Dan hebben we op 2
 6 juni aanstaande een avond die helemaal in jouw straatje past: een heuse d
 ebattraining. Deze is bedoeld voor iedereen die misschien wel namens Volt i
 n Brabant volksvertegenwoordiger zou willen worden. En nog helemaal gratis 
 ook. Een leuke manier om je voor te bereiden op je eventuele kandidatuur é
 n een leuke kans om mede-geïnteresseerden te ontmoeten Wat houd
LOCATION:Den Bosch
URL:https://voltnederland.org/agenda/debattraining-grv-2026
END:VEVENT
END:VCALENDAR
