BEGIN:VCALENDAR
VERSION:2.0
PRODID:-//Volt Europa//Events//EN
CALSCALE:GREGORIAN
METHOD:PUBLISH
BEGIN:VEVENT
UID:debatavond-thema-de-wolf-1726767000@voltnederland.org
DTSTAMP:20260423T101922Z
DTSTART;TZID=Europe/Amsterdam:20240919T193000
DTEND;TZID=Europe/Amsterdam:20240919T223000
SUMMARY:Debatavond Thema 'De Wolf'
DESCRIPTION:Na een succesvolle editie vorig jaar organiseert de Provincie o
 ok dit jaar weer een debatavond. Inloop op 19 september is vanaf 19.30 uur 
 en vanaf een uur of 8 zal het debat starten.  Na een inleiding over het ond
 erwerp vormen jullie partij fracties zoals ze ook vertegenwoordigd zijn in 
 de Provinciale Staten. Vervolgens start het debat onder leiding van de voor
 zitter. Het debat wordt gevoerd zoals het ook in werkelijkheid gaat in de C
 ommissiekamer van het Provinciehuis. Dus heb jij altijd al een
LOCATION:Provinciehuis Utrecht\, Archimedeslaan 6 Utrecht
URL:https://voltnederland.org/agenda/debatavond-thema-de-wolf
END:VEVENT
END:VCALENDAR
