BEGIN:VCALENDAR
VERSION:2.0
PRODID:-//Volt Europa//Events//EN
CALSCALE:GREGORIAN
METHOD:PUBLISH
BEGIN:VEVENT
UID:debatavond-ondernemen-in-de-bilt-1752688800@voltnederland.org
DTSTAMP:20260423T102053Z
DTSTART;TZID=Europe/Amsterdam:20250716T200000
DTEND;TZID=Europe/Amsterdam:20250716T220000
SUMMARY:Debatavond: Ondernemen in De Bilt
DESCRIPTION:Op woensdagavond 16 juli organiseert Volt De Bilt een ledenavon
 d over ondernemerschap in onze gemeente. We gaan in gesprek over wat het be
 tekent om ondernemer te zijn in De Bilt\, hoe de samenwerking met de gemeen
 te verloopt en waar kansen liggen voor verbetering. Deze avond is onderdeel
  van de voorbereiding op het verkiezingsprogramma voor de gemeenteraadsverk
 iezingen (GRV) in 2026. De input die we ophalen\, gebruiken we om Volt’s 
 lokale visie op economie en ondernemerschap verder vorm te geven. 
LOCATION:Proefwerk\, Hessenweg 117 De Bilt
URL:https://voltnederland.org/agenda/debatavond-ondernemen-in-de-bilt
END:VEVENT
END:VCALENDAR
