BEGIN:VCALENDAR
VERSION:2.0
PRODID:-//Volt Europa//Events//EN
CALSCALE:GREGORIAN
METHOD:PUBLISH
BEGIN:VEVENT
UID:debat-volt-x-nsc-1717003800@voltnederland.org
DTSTAMP:20260423T101914Z
DTSTART;TZID=Europe/Amsterdam:20240529T193000
DTEND;TZID=Europe/Amsterdam:20240529T213000
SUMMARY:Volt x NSC - Debat
DESCRIPTION:Op 6 juni zijn de Europese verkiezingen. De EU staat voor grote
  uitdagingen die niet te beantwoorden zijn in oneliners. Hoe ziet de Europa
  er over 30 jaar uit?  Volt en NSC hebben zeer verschillende visies over de
  toekomst van Europa: komt er een Europees leger? Laten we nieuwe landen to
 e tot de EU? Gaat het klimaatbeleid te hard of juist te langzaam? Tijdens e
 en debat op 29 mei in Utrecht presenteren Volt en NSC ieder hun plannen voo
 r de EU. Daarna gaan co-lijstrekkers Reinier en Anna en de lij
LOCATION:LE:EN\, Heuveloord 140\, 3523 CK Utrecht
URL:https://voltnederland.org/agenda/debat-volt-x-nsc
END:VEVENT
END:VCALENDAR
