BEGIN:VCALENDAR
VERSION:2.0
PRODID:-//Volt Europa//Events//EN
CALSCALE:GREGORIAN
METHOD:PUBLISH
BEGIN:VEVENT
UID:debat-avond-woerden-1716998400@voltnederland.org
DTSTAMP:20260423T113841Z
DTSTART;TZID=Europe/Amsterdam:20240529T180000
DTEND;TZID=Europe/Amsterdam:20240529T213000
SUMMARY:Debat Avond Woerden
DESCRIPTION:Volt in Woerden heeft het initiatief genomen om samen met ander
 e Woerdense (afdelingen van) partijen (PvdA/GL/CDA/D66/VVD/SGP/CU) een EU v
 erkiezingsavond te organiseren met o.a. debat/panelgesprekken. Namens Volt 
 zal Alan Hendriks hierbij aanwezig zijn.
LOCATION:De Speeldoos\, Singel 45a\, Woerden
URL:https://voltnederland.org/agenda/debat-avond-woerden
END:VEVENT
END:VCALENDAR
