BEGIN:VCALENDAR
VERSION:2.0
PRODID:-//Volt Europa//Events//EN
CALSCALE:GREGORIAN
METHOD:PUBLISH
BEGIN:VEVENT
UID:debat-avond-participatie-en-bestuur-1741719600@voltnederland.org
DTSTAMP:20260423T102133Z
DTSTART;TZID=Europe/Amsterdam:20250311T200000
DTEND;TZID=Europe/Amsterdam:20250311T220000
SUMMARY:Debat-avond Participatie en Bestuur
DESCRIPTION:Tijdens deze derde debat-avond van Volt community Gemeente De B
 ilt gaan we in gesprek over hoe de gemeente burgerparticipatie moet inricht
 en en kan gebruiken in het bestuur. Volt staat voor nieuwe democratie waarb
 ij burgers betrokken worden en waarbij burgerinitiatieven worden ondersteun
 d en beloond. De input van deze avond gebruiken wij voor ons verkiezingspro
 gramma. Daarom hopen wij van harte dat we vele leden uit de Gemeente De Bil
 t mogen verwelkomen. Deze avond is alleen voor leden\, aanmelde
LOCATION:Huize Voordaan\, Groenekanseweg 85\, Groenekan
URL:https://voltnederland.org/agenda/debat-avond-participatie-en-bestuur
END:VEVENT
END:VCALENDAR
