BEGIN:VCALENDAR
VERSION:2.0
PRODID:-//Volt Europa//Events//EN
CALSCALE:GREGORIAN
METHOD:PUBLISH
BEGIN:VEVENT
UID:de-straat-op-1758369600@voltnederland.org
DTSTAMP:20260423T101917Z
DTSTART;TZID=Europe/Amsterdam:20250920T140000
DTEND;TZID=Europe/Amsterdam:20250920T170000
SUMMARY:De Straat Op!
DESCRIPTION:Wanneer we de handen ineenslaan kunnen we grote veranderingen v
 oor elkaar krijgen. Toen vrouwen én mannen samen de straat op gingen dwong
 en ze het vrouwenkiesrecht af. Toen stedelingen en plattelandsbewoners\, ke
 rken en doorgewinterde activisten samenkwamen wisten ze de komst van gevaar
 lijke kerncentrales tegen te houden. En toen door heel Nederland mensen in 
 actie kwamen tegen zwarte Piet zorgden ze ervoor dat deze racistische karik
 atuur bijna overal is verdwenen. Zelfs fietspaden zijn er pas ge
LOCATION:Amsterdam
URL:https://voltnederland.org/amsterdam/agenda/de-straat-op
END:VEVENT
END:VCALENDAR
