BEGIN:VCALENDAR
VERSION:2.0
PRODID:-//Volt Europa//Events//EN
CALSCALE:GREGORIAN
METHOD:PUBLISH
BEGIN:VEVENT
UID:de-europa-talkshow-over-veiligheid-1717610400@voltnederland.org
DTSTAMP:20260423T102048Z
DTSTART;TZID=Europe/Amsterdam:20240605T200000
DTEND;TZID=Europe/Amsterdam:20240605T221500
SUMMARY:De Europa Talkshow: over veiligheid
DESCRIPTION:De Europese verkiezingen komen eraan! Maar waar gaan deze verki
 ezingen eigenlijk over? Met de Europa Talkshow duiken we elke avond in een 
 ander verkiezingsthema. Zo ben je in één avond bijgepraat over de knelpun
 ten en oplossingen van de hete hangijzers in deze verkiezingen. Deze editie
 : veiligheid. Lange tijd waanden we ons veilig in Europa\, maar dat tij lij
 kt te zijn gekeerd. Voor het eerst in decennia is er oorlog op het Europese
  continent. Na jarenlange bezuinigingen op defensie moeten we ons
LOCATION:Tivoli Vredenburg\, Utrecht
URL:https://voltnederland.org/agenda/de-europa-talkshow-over-veiligheid
END:VEVENT
END:VCALENDAR
