BEGIN:VCALENDAR
VERSION:2.0
PRODID:-//Volt Europa//Events//EN
CALSCALE:GREGORIAN
METHOD:PUBLISH
BEGIN:VEVENT
UID:de-bilt-praat-mee-over-woningbouw-1737485100@voltnederland.org
DTSTAMP:20260423T144236Z
DTSTART;TZID=Europe/Amsterdam:20250121T194500
DTEND;TZID=Europe/Amsterdam:20250121T220000
SUMMARY:De Bilt: Praat mee over Woningbouw
DESCRIPTION:Hoe kunnen wij in De Bilt zorgen voor voldoende woningen voor i
 edereen? Waar is er ruimte voor duurzame woningen? Hoe kunnen we bestaande 
 woningen het beste verduurzamen? Hoe gaan we bouwen in de groene kernen (We
 stbroek\, Maartensdijk en Groenekan)? Praat mee over deze onderwerpen tijde
 ns de eerste debatavond van Volt community De Bilt! We hebben jouw input ha
 rd nodig\, want dit is de basis van ons verkiezingsprogramma voor de Gemeen
 teraadsverkiezingen in 2026.  Deze activiteit is alleen voor led
LOCATION:Huize Voordaan\, Groenekanseweg 85 te Groenekan
URL:https://voltnederland.org/agenda/de-bilt-praat-mee-over-woningbouw
END:VEVENT
END:VCALENDAR
