BEGIN:VCALENDAR
VERSION:2.0
PRODID:-//Volt Europa//Events//EN
CALSCALE:GREGORIAN
METHOD:PUBLISH
BEGIN:VEVENT
UID:dag-van-de-bestaanszekerheid-1699093800@voltnederland.org
DTSTAMP:20260423T101922Z
DTSTART;TZID=Europe/Amsterdam:20231104T113000
DTEND;TZID=Europe/Amsterdam:20231104T140000
SUMMARY:Mars voor Bestaanszekerheid
DESCRIPTION:Oproep aan alle Volters!  Op zaterdag 4 november loopt Volt mee
  met de mars voor de Dag van de Bestaanszekerheid in Amsterdam. Om 11:30 ve
 rzamelen we op de Dam bij het Nationaal Monument. Om 12:00 begint de mars\,
  waarna er om 14:00 in het Westerpark een groot debat is. Dit is hét momen
 t om aandacht te vragen voor mensen die steeds vaker hun huur niet meer kun
 nen betalen\, naar de voedselbank moeten en last hebben van een hogere zorg
 premie.  Van de Kamer naar de straat\, laten we Amsterdam paars kl
LOCATION:Amsterdam
URL:https://voltnederland.org/agenda/dag-van-de-bestaanszekerheid
END:VEVENT
END:VCALENDAR
