BEGIN:VCALENDAR
VERSION:2.0
PRODID:-//Volt Europa//Events//EN
CALSCALE:GREGORIAN
METHOD:PUBLISH
BEGIN:VEVENT
UID:congres-volt-utrecht-9-december-2024-1733767200@voltnederland.org
DTSTAMP:20260423T102103Z
DTSTART;TZID=Europe/Amsterdam:20241209T190000
DTEND;TZID=Europe/Amsterdam:20241209T213000
SUMMARY:Congres Volt Utrecht 9 december 2024
DESCRIPTION:We nodigen je van harte uit voor het aankomende congres van Vol
 t Utrecht op maandag 9 december van 19.00 - 21.30 in Utrecht. Tijdens het c
 ongres kiezen we nieuwe bestuurs- en commissieleden\, en bespreken we de be
 groting en het afdelingsreglement. Verder timmeren we al hard aan de weg om
  mee te kunnen doen aan de gemeenteraadsverkiezingen in 2026. De teams die 
 daarmee bezig zijn\, zullen zich voorstellen. Na afloop praten we nog na in
  een café in de buurt. Aanmelden kan via de link in de uitnodigi
LOCATION:Stadhuis van Utrecht\, Stadhuisbrug 1\, 3511 JK Utrecht
URL:https://voltnederland.org/agenda/congres-volt-utrecht-9-december-2024
END:VEVENT
END:VCALENDAR
