BEGIN:VCALENDAR
VERSION:2.0
PRODID:-//Volt Europa//Events//EN
CALSCALE:GREGORIAN
METHOD:PUBLISH
BEGIN:VEVENT
UID:congres-volt-utrecht-15-november-1763197200@voltnederland.org
DTSTAMP:20260424T030339Z
DTSTART;TZID=Europe/Amsterdam:20251115T100000
DTEND;TZID=Europe/Amsterdam:20251115T150000
SUMMARY:Congres Volt Utrecht (15 november)
DESCRIPTION:Tijdens dit congres worden de verkiezingen voor de overige kand
 idaten en het verkiezingsprogramma’s gehouden.  Voor het congres kunnen l
 eden nog agendapunten aandragen. Verstuur je verzoek naar:  utrecht@volteu
 ropa.org De inloop is vanaf 9.45. Het congres begint om 10:00 en eindigt om
  ongeveer 15:00.
LOCATION:Utrecht\, Provinciehuis\, Archimedeslaan 6
URL:https://voltnederland.org/agenda/congres-volt-utrecht-15-november
END:VEVENT
END:VCALENDAR
