BEGIN:VCALENDAR
VERSION:2.0
PRODID:-//Volt Europa//Events//EN
CALSCALE:GREGORIAN
METHOD:PUBLISH
BEGIN:VEVENT
UID:congres-volt-gelderland-1743249600@voltnederland.org
DTSTAMP:20260423T113836Z
DTSTART;TZID=Europe/Amsterdam:20250329T130000
DTEND;TZID=Europe/Amsterdam:20250329T173000
SUMMARY:Congres Volt Gelderland
DESCRIPTION:We willen jullie tijdens het congres graag informeren over onze
  activiteiten in 2024. Daarnaast mogen jullie stemmen over een nieuwe co-vo
 orzitter\, nieuwe leden voor de kandidatencommissie en gaan we het hebben o
 ver de voorbereiding op de gemeenteraadsverkiezingen in 2026 in verschillen
 de gemeenten in onze provincie. Voorlopige agenda: Opening congres om 13.30
  uur Terugblik op 2024 - het Gelders bestuur Afrekening 2024 - de penningme
 ester Voorstel lokale samenwerking - het Gelders bestuur Toelic
LOCATION:Theater Het Hof\, Boekhorstenstraat 58\, 6828 DV Arnhem
URL:https://voltnederland.org/agenda/congres-volt-gelderland
END:VEVENT
END:VCALENDAR
