BEGIN:VCALENDAR
VERSION:2.0
PRODID:-//Volt Europa//Events//EN
CALSCALE:GREGORIAN
METHOD:PUBLISH
BEGIN:VEVENT
UID:congres-volt-brabant-1740312000@voltnederland.org
DTSTAMP:20260424T024810Z
DTSTART;TZID=Europe/Amsterdam:20250223T130000
DTEND;TZID=Europe/Amsterdam:20250223T170000
SUMMARY:Congres Volt Brabant
DESCRIPTION:We nodigen je graag uit voor ons jaarlijkse congres! Op deze da
 g nemen we enkele belangrijke beslissingen\, waaronder de verkiezing van on
 ze nieuwe kandidatencommissie en bestuursleden. Jullie stem is van groot be
 lang\, en we moedigen iedereen aan om actief deel te nemen aan dit proces. 
 Naast de verkiezingen hebben we een inhoudelijk programma samengesteld dat 
 ons in staat stelt om terug te blikken op het afgelopen jaar. We zullen het
  jaaroverzicht presenteren\, waarin we onze successen en uitdagin
LOCATION:Café de Fellenoord\, Fellenoord 6\, 5281 CB Boxtel
URL:https://voltnederland.org/agenda/congres-volt-brabant
END:VEVENT
END:VCALENDAR
