BEGIN:VCALENDAR
VERSION:2.0
PRODID:-//Volt Europa//Events//EN
CALSCALE:GREGORIAN
METHOD:PUBLISH
BEGIN:VEVENT
UID:congres-nov-2025-1764507600@voltnederland.org
DTSTAMP:20260423T101922Z
DTSTART;TZID=Europe/Amsterdam:20251130T140000
DTEND;TZID=Europe/Amsterdam:20251130T170000
SUMMARY:Congres Volt Drenthe november 2025
DESCRIPTION:Zet het maar vast in je agenda! Zondag 30 november organiseert 
 Volt Drenthe weer een congres. In je mail vindt je enkele dagen voor 30 nov
 ember een unieke stemlink. Hiermee kan je stemmen op de kandidaten voor bes
 tuur en de kandidatencommissie. Weet je niet hoe het stemmen precies moet? 
 Hieronder bij documenten vind je een mooie handleiding die je verder helpt.
  Kom je er dan nog niet uit? Trek bij het bestuur aan de bel! Dit kan uiter
 aard ook op het congres zelf. Je stemlink is uniek voor jou\, d
LOCATION:Het Podium\, Schutstraat 43\, Hoogeveen
URL:https://voltnederland.org/agenda/congres-nov-2025
END:VEVENT
END:VCALENDAR
