BEGIN:VCALENDAR
VERSION:2.0
PRODID:-//Volt Europa//Events//EN
CALSCALE:GREGORIAN
METHOD:PUBLISH
BEGIN:VEVENT
UID:community-bbq-1789747200@voltnederland.org
DTSTAMP:20260425T233551Z
DTSTART;TZID=Europe/Amsterdam:20260918T180000
DTEND;TZID=Europe/Amsterdam:20260918T210000
SUMMARY:Community BBQ
DESCRIPTION:Op vrijdag 18 september nodigen we iedereen uit voor een commun
 ity-BBQ bij Suzanne in haar tuin!
LOCATION:Tuin van Suzanne
URL:https://voltnederland.org/agenda/community-bbq
END:VEVENT
END:VCALENDAR
