BEGIN:VCALENDAR
VERSION:2.0
PRODID:-//Volt Europa//Events//EN
CALSCALE:GREGORIAN
METHOD:PUBLISH
BEGIN:VEVENT
UID:cocreatiesessies-kandidaatstellingsonderzoek-kso-1743249600@voltnederla
 nd.org
DTSTAMP:20260423T115158Z
DTSTART;TZID=Europe/Amsterdam:20250329T130000
DTEND;TZID=Europe/Amsterdam:20250329T170000
SUMMARY:Cocreatiesessies kandidaatstellingsonderzoek (KSO)
DESCRIPTION:Volt-leden met diverse achtergronden werken in cocreatiesessies
  samen om verbeteringen voor de kandidaatstellingsprocedure door te voeren\
 , zodat het vertrouwen daarin toeneemt. Dit is voor Volt erg belangrijk omd
 at het kandidaatstellingsproces een van de belangrijkste processen is binne
 n een politieke partij en zeker binnen Volt. Doe mee Op 29 maart start de v
 olgende fase van het onderzoek naar het kandidaatstellingsproces en daar he
 bben we jou voor nodig. In deze fase gaan Volt-leden vanuit ver
LOCATION:LE:EN\, Heuveloord 140\, 3523 CK Utrecht
URL:https://voltnederland.org/agenda/cocreatiesessies-kandidaatstellingsond
 erzoek-kso
END:VEVENT
END:VCALENDAR
