BEGIN:VCALENDAR
VERSION:2.0
PRODID:-//Volt Europa//Events//EN
CALSCALE:GREGORIAN
METHOD:PUBLISH
BEGIN:VEVENT
UID:campagne-kick-off-zuid-limburg-samen-met-duitsland-1757145600@voltneder
 land.org
DTSTAMP:20260423T114226Z
DTSTART;TZID=Europe/Amsterdam:20250906T100000
DTEND;TZID=Europe/Amsterdam:20250906T193000
SUMMARY:Campagne kick-off Zuid-Limburg samen met Duitsland
DESCRIPTION:Omdat Duitsland\, in de aanloop naar de Nederlandse Tweede Kame
 rverkiezingen\, gemeentelijke verkiezingen heeft\, zullen we samen met hen 
 onze campagne gaan aftrappen. We zullen in Maastricht beginnen en dan samen
  richting Aachen gaan. Programma 10:00 Een brunch in Café Forum\, samen me
 t  Mels Klabbers \, co-voorzitter Volt Europa 12:22 Drielandentrein naar He
 rzogenrath 13:00 Flyeren in de binnenstad van Herzogenrath 14:30 Met de tre
 in door naar Aachen 14:45 Flyeren rondom het station van Aachen 15:3
LOCATION:Maastricht\, Aachen
URL:https://voltnederland.org/agenda/campagne-kick-off-zuid-limburg-samen-m
 et-duitsland
END:VEVENT
END:VCALENDAR
