BEGIN:VCALENDAR
VERSION:2.0
PRODID:-//Volt Europa//Events//EN
CALSCALE:GREGORIAN
METHOD:PUBLISH
BEGIN:VEVENT
UID:campagne-in-oost-nederland-koers-naar-de-toekomst-1705840200@voltnederl
 and.org
DTSTAMP:20260423T114410Z
DTSTART;TZID=Europe/Amsterdam:20240121T133000
DTEND;TZID=Europe/Amsterdam:20240121T170000
SUMMARY:Campagne in Oost Nederland ‘Koers naar de Toekomst'
DESCRIPTION:In de appgroep ‘Volt Achterhoek-discussie’ is naar aanleidi
 ng van de uitslag van de verkiezingen de afgelopen weken volop gediscussiee
 rd. Ook zijn ideeën en meningen over de komende campagne gedeeld. Geweldig
 ! Wij sluiten graag aan bij wat onze leden in Oost Nederland belangrijk vin
 den en we nodigen je dan ook van harte uit om op zondagmiddag 21 januari me
 t ons mee te denken. Wat is er nodig en hoe brengen we ons verhaal goed ove
 r? Welke thema’s zijn voor ons belangrijk? Wat zou je graag willen 
LOCATION:t Onderschoer\, Beukenlaan 1\, Barchem
URL:https://voltnederland.org/agenda/campagne-in-oost-nederland-koers-naar-
 de-toekomst
END:VEVENT
END:VCALENDAR
