BEGIN:VCALENDAR
VERSION:2.0
PRODID:-//Volt Europa//Events//EN
CALSCALE:GREGORIAN
METHOD:PUBLISH
BEGIN:VEVENT
UID:brussels-campaign-kick-off-1712383200@voltnederland.org
DTSTAMP:20260423T173757Z
DTSTART;TZID=Europe/Amsterdam:20240406T080000
DTEND;TZID=Europe/Amsterdam:20240407T190000
SUMMARY:Brussels Campaign Kick Off
DESCRIPTION:Europe is calling\, are you picking up? 2024. History holds its
  breath. 4 billion voters are back at the polls this year. But amidst the e
 choes of populism\, the far-right threatens to rise. This is your wake-up c
 all. Volt workshops equip people like you with a toolbox of practical strat
 egies\, campaign expertise\, and a stronger connection with campaign heroes
  from all over Europe.  Be the hero Europe needs. Join our campaign kick-of
 f event in Brussels on 6-7 April to rewrite the European narrative
LOCATION:Brussel\, Rue Théodore Verhaegen 158
URL:https://voltnederland.org/agenda/brussels-campaign-kick-off
END:VEVENT
END:VCALENDAR
