BEGIN:VCALENDAR
VERSION:2.0
PRODID:-//Volt Europa//Events//EN
CALSCALE:GREGORIAN
METHOD:PUBLISH
BEGIN:VEVENT
UID:breda-zomerborrel-augustus-2025-1754674200@voltnederland.org
DTSTAMP:20260423T102104Z
DTSTART;TZID=Europe/Amsterdam:20250808T193000
DTEND;TZID=Europe/Amsterdam:20250808T220000
SUMMARY:Breda - Zomerborrel augustus 2025
DESCRIPTION:📅 Datum: vrijdag 8 augustus 2025 📍 Locatie: Café Parkzic
 ht\, Paul Windhausenweg 1 in Breda 🕢 19:30 Zin in een gezellige zomeravo
 nd? Kom naar de Zomerborrel van Volt West-Brabant! Een laagdrempelig event 
 om kennis te maken met elkaar én samen in gesprek te gaan over de beleidst
 hema’s voor de aankomende gemeenteraadsverkiezingen. Of je nu al lid bent
 \, nieuwsgierig bent naar Volt\, of gewoon zin hebt in een goed gesprek en 
 een drankje—iedereen is van harte welkom!
LOCATION:Café Parkzicht\, Paul Windhausenweg 1 in Breda
URL:https://voltnederland.org/agenda/breda-zomerborrel-augustus-2025
END:VEVENT
END:VCALENDAR
