BEGIN:VCALENDAR
VERSION:2.0
PRODID:-//Volt Europa//Events//EN
CALSCALE:GREGORIAN
METHOD:PUBLISH
BEGIN:VEVENT
UID:breda-meet-up-oktober-1698255000@voltnederland.org
DTSTAMP:20260423T101945Z
DTSTART;TZID=Europe/Amsterdam:20231025T193000
DTEND;TZID=Europe/Amsterdam:20231025T213000
SUMMARY:Breda - meet-up oktober
DESCRIPTION:- English below -  Iedere laatste woensdag van de maand spreken
  we met Volters af in Breda. Ook belangstellenden zijn van harte welkom.  O
 p 25 oktober 2023 zijn we vanaf 19.30 uur weer bij café Het Hijgend Hert. 
 Graag tot dan! --- Every last Wednesday of the month we meet with Volters i
 n Breda. Interested parties are also very welcome. On October 25th\, 2023 w
 e will be back at café Het Hijgend Hert from 7.30 pm. See you then!
LOCATION:Café het Hijgend Hert 7 Pasbaan Breda\, NB\, 4811 GM
URL:https://voltnederland.org/agenda/breda-meet-up-oktober
END:VEVENT
END:VCALENDAR
