BEGIN:VCALENDAR
VERSION:2.0
PRODID:-//Volt Europa//Events//EN
CALSCALE:GREGORIAN
METHOD:PUBLISH
BEGIN:VEVENT
UID:breda-meet-up-maart-1711564200@voltnederland.org
DTSTAMP:20260423T101920Z
DTSTART;TZID=Europe/Amsterdam:20240327T193000
DTEND;TZID=Europe/Amsterdam:20240327T213000
SUMMARY:Breda - meet-up maart
DESCRIPTION:Iedere laatste woensdag van de maand kunnen Volt leden elkaar t
 reffen in Breda. Komende maanden staan natuurlijk in het teken van de Europ
 ese verkiezingen.
LOCATION:Breda - Cafe Publieke werken - Sint Annastraat 12\, 4811 XK Breda
URL:https://voltnederland.org/agenda/breda-meet-up-maart
END:VEVENT
END:VCALENDAR
