BEGIN:VCALENDAR
VERSION:2.0
PRODID:-//Volt Europa//Events//EN
CALSCALE:GREGORIAN
METHOD:PUBLISH
BEGIN:VEVENT
UID:breda-meet-up-juni-2025-1750708800@voltnederland.org
DTSTAMP:20260423T101920Z
DTSTART;TZID=Europe/Amsterdam:20250623T220000
DTEND;TZID=Europe/Amsterdam:20250623T220000
SUMMARY:Breda - meet-up juni 2025
DESCRIPTION:📅 Datum: maandag 23 juni 2025 📍 Locatie: Café Parkzicht\
 , Paul Windhausenweg 1 in Breda 🕢 Inloop vanaf 19.30 uur | Start om 20.0
 0 uur | Borrel na afloop Arjen van Silfhout zit namens Volt in de gemeenter
 aad van Den Bosch — en op 23 juni neemt hij ons mee achter de schermen va
 n lokaal politiek werk. De afgelopen maanden hebben we binnen Volt West-Bra
 bant hard gewerkt aan onze eerste beleidsthema’s voor het verkiezingsprog
 ramma van de gemeenteraadsverkiezingen in Breda. Vanuit onze Europese blik 
 zi
LOCATION:Café Parkzicht\, Paul Windhausenweg 1 in Breda
URL:https://voltnederland.org/brabant/agenda/breda-meet-up-juni-2025
END:VEVENT
END:VCALENDAR
