BEGIN:VCALENDAR
VERSION:2.0
PRODID:-//Volt Europa//Events//EN
CALSCALE:GREGORIAN
METHOD:PUBLISH
BEGIN:VEVENT
UID:breda-meet-up-juli-2024-1722447000@voltnederland.org
DTSTAMP:20260423T101945Z
DTSTART;TZID=Europe/Amsterdam:20240731T193000
DTEND;TZID=Europe/Amsterdam:20240731T213000
SUMMARY:Breda - meet-up juli 2024
DESCRIPTION:Iedere laatste woensdag van de maand spreken we met Volters af 
 in Breda. Ook belangstellenden zijn van harte welkom.  Op 31 juli 2024 zijn
  we vanaf 19.30 uur weer bij café Het Hijgend Hert. Graag tot dan! Inloop 
 vanaf: 19.30 uur Start programma: 20 uur --- Every last Wednesday of the mo
 nth we meet with Volters in Breda. Interested parties are also very welcome
 . On July 31st\, 2024 we will be back at café Het Hijgend Hert from 7.30 p
 m. See you then!
LOCATION:Café het Hijgend Hert 7 Pasbaan Breda\, NB\, 4811 GM
URL:https://voltnederland.org/agenda/breda-meet-up-juli-2024
END:VEVENT
END:VCALENDAR
