BEGIN:VCALENDAR
VERSION:2.0
PRODID:-//Volt Europa//Events//EN
CALSCALE:GREGORIAN
METHOD:PUBLISH
BEGIN:VEVENT
UID:brabantse-ledendag-1759566600@voltnederland.org
DTSTAMP:20260423T101914Z
DTSTART;TZID=Europe/Amsterdam:20251004T103000
DTEND;TZID=Europe/Amsterdam:20251004T180000
SUMMARY:Provinciedag Volt Brabant (geannuleerd)
DESCRIPTION:Helaas heeft de Volt-fractie in Brabant moeten besluiten om de 
 Provinciedag op 4 oktober te annuleren. Iedereen keek er erg naar uit om ee
 n inspirerende en leerzame dag te organiseren voor alle Brabantse Volters. 
 Door een samenloop van omstandigheden — zoals drukke agenda’s rondom de
  landelijke verkiezingen\, verstoringen in het openbaar vervoer  — kan de
  kwaliteit die we voor ogen hadden niet worden geboden. Daarom is\, na rijp
  beraad\, besloten het evenement voor nu niet door te laten gaan maar e
LOCATION:Provinciehuis Noord-Brabant
URL:https://voltnederland.org/agenda/brabantse-ledendag
END:VEVENT
END:VCALENDAR
