BEGIN:VCALENDAR
VERSION:2.0
PRODID:-//Volt Europa//Events//EN
CALSCALE:GREGORIAN
METHOD:PUBLISH
BEGIN:VEVENT
UID:brabantbrede-ledenborrel-1733583600@voltnederland.org
DTSTAMP:20260423T113842Z
DTSTART;TZID=Europe/Amsterdam:20241207T160000
DTEND;TZID=Europe/Amsterdam:20241207T190000
SUMMARY:Brabantbrede Ledenborrel
DESCRIPTION:Tijd om elkaar Brabantbreed op te zoeken! Aansluitend aan de Le
 dendag voor Midden-Brabant\, willen we leden uit heel Brabant uitnodigen om
  samen te borrelen. Het eerste rondje is op kosten van Volt Brabant!  Inloo
 p vanaf 4 uur. De eindtijd is een richttijd.
LOCATION:De Nachtzuster: Carré 50\, 5017 JE Tilburg
URL:https://voltnederland.org/agenda/brabantbrede-ledenborrel
END:VEVENT
END:VCALENDAR
