BEGIN:VCALENDAR
VERSION:2.0
PRODID:-//Volt Europa//Events//EN
CALSCALE:GREGORIAN
METHOD:PUBLISH
BEGIN:VEVENT
UID:borrel-na-de-pride-march-1753531200@voltnederland.org
DTSTAMP:20260423T101922Z
DTSTART;TZID=Europe/Amsterdam:20250726T140000
DTEND;TZID=Europe/Amsterdam:20250726T170000
SUMMARY:Borrel na de Pride March
DESCRIPTION:Heb je net meegelopen in de  Pride March naar het Pride Park \,
  het Vondelpark? Of lukte dat niet\, maar heb je wel zin in een drankje? Li
 d of niet\, je bent van harte welkom op onze borrel na de Pride March in he
 t hippe Mi-ami aan de Jan van Galenstraat! Eén van de actieve leden van Vo
 lt Amsterdam stelt een hoekje beschikbaar om te borrelen\, op eigen rekenin
 g. Wees welkom vanaf 14 uur!
LOCATION:Mi-ami\, Jan van Galenstraat 169
URL:https://voltnederland.org/agenda/borrel-na-de-pride-march
END:VEVENT
END:VCALENDAR
