BEGIN:VCALENDAR
VERSION:2.0
PRODID:-//Volt Europa//Events//EN
CALSCALE:GREGORIAN
METHOD:PUBLISH
BEGIN:VEVENT
UID:borrel-met-europese-kandidaten-1703700000@voltnederland.org
DTSTAMP:20260423T113949Z
DTSTART;TZID=Europe/Amsterdam:20231227T190000
DTEND;TZID=Europe/Amsterdam:20231227T220000
SUMMARY:Borrel met Europese kandidaten
DESCRIPTION:15 december werd de conceptlijst voor de Europese verkiezingen 
 gepresenteerd\, en nu zijn de leden aan zet. Wil je graag iemand uit de reg
 io ondersteunen\, dan komt hier je kans. Op woensdag 27 december wordt in D
 ordrecht een borrel georganiseerd met Europese kandidaten uit de regio als 
 speciale gasten. De volgende kandidaten hebben al bevestigd: Anna Strolenbe
 rg (#2) ⁠Reyhan Cigdem (#12) ⁠Ruben Schouten (#21) ⁠Polo Bais (#23)* 
 ⁠Bram Kamp (#~) *Aanwezigheid onder voorbehoud Ga met deze kandidaten 
LOCATION:Vegan cafe Rebel Rebel\, Houtuinen 32 Dordrecht
URL:https://voltnederland.org/agenda/borrel-met-europese-kandidaten
END:VEVENT
END:VCALENDAR
