BEGIN:VCALENDAR
VERSION:2.0
PRODID:-//Volt Europa//Events//EN
CALSCALE:GREGORIAN
METHOD:PUBLISH
BEGIN:VEVENT
UID:borrel-in-enschede-1731697200@voltnederland.org
DTSTAMP:20260423T101916Z
DTSTART;TZID=Europe/Amsterdam:20241115T200000
DTEND;TZID=Europe/Amsterdam:20241115T220000
SUMMARY:Borrel in Enschede
DESCRIPTION:Wie: Volt leden en geinteresseerden Wat: Borrel Waar: Enschede\
 , de Vluchte Wanneer: vrijdag 15 nov\, vrije inloop vanaf 20:00 Ontmoet med
 e-Volters\, ga in gesprek over actualiteiten en klets gezellig met elkaar! 
 We nodigen nieuwe leden en geïnteresseerden ook van harte uit om naar de b
 orrel te komen!
LOCATION:Enschede\, de Vluchte
URL:https://voltnederland.org/agenda/borrel-in-enschede
END:VEVENT
END:VCALENDAR
