BEGIN:VCALENDAR
VERSION:2.0
PRODID:-//Volt Europa//Events//EN
CALSCALE:GREGORIAN
METHOD:PUBLISH
BEGIN:VEVENT
UID:borderball-24-het-festivolt-event-van-dit-jaar-1719576000@voltnederland
 .org
DTSTAMP:20260423T113923Z
DTSTART;TZID=Europe/Amsterdam:20240628T140000
DTEND;TZID=Europe/Amsterdam:20240630T120000
SUMMARY:Borderball '24\, het FestiVolt event van dit jaar!
DESCRIPTION:Nederlands: Kamperen\, sporten en ideeën uitwisselen in een on
 gedwongen\, internationale sfeer. Vorig jaar was een groot succes (80 entho
 usiaste deelnemers). Deelname is gratis. Kinderen zijn welkom. Goed bereikb
 aar met het openbaar vervoer\, op de grens tussen Nederland en Duitsland. B
 orderball is een initiatief van de chapters: Achterhoek\, Münsterland\, Os
 nabrückerland en Twente. Een 3-daags evenement van vrijdag 28 juni (14.00 
 uur) tot en met zondag 30 juni (12.00 uur) English: Camping\, playing s
LOCATION:Sportpark Bults-erve\, Glanerbrug (Enschede)
URL:https://voltnederland.org/agenda/borderball-24-het-festivolt-event-van-
 dit-jaar
END:VEVENT
END:VCALENDAR
