BEGIN:VCALENDAR
VERSION:2.0
PRODID:-//Volt Europa//Events//EN
CALSCALE:GREGORIAN
METHOD:PUBLISH
BEGIN:VEVENT
UID:bezoek-drents-landschap-1748861100@voltnederland.org
DTSTAMP:20260423T101947Z
DTSTART;TZID=Europe/Amsterdam:20250602T124500
DTEND;TZID=Europe/Amsterdam:20250602T160000
SUMMARY:Bezoek Drents Landschap
DESCRIPTION:Het evenement zit vol! Maar meldt je aan voor de wachtlijst.  O
 p  2 juni   mogen wij met het Drentse Landschap mee op excursie naar het Hu
 nzedal!  Behalve een mooie tocht door het gebied krijgen we ook uitleg over
  de ruimtelijke keuzes en afwegingen die zijn en worden gemaakt ter plaatse
 .  Een unieke kans waar je zeker voor vrij moet nemen als je werkt!  We sta
 rten om 13.00. Verdere details volgen.  Graag even laten weten of je intere
 sse hebt. Bij onvoldoende animo kunnen we afzeggen.  Hopelijk 
LOCATION:Gasselte - Natuurgebied de Branden
URL:https://voltnederland.org/agenda/bezoek-drents-landschap
END:VEVENT
END:VCALENDAR
