BEGIN:VCALENDAR
VERSION:2.0
PRODID:-//Volt Europa//Events//EN
CALSCALE:GREGORIAN
METHOD:PUBLISH
BEGIN:VEVENT
UID:best-europa-en-de-brainport-regio-1746725400@voltnederland.org
DTSTAMP:20260423T102218Z
DTSTART;TZID=Europe/Amsterdam:20250508T193000
DTEND;TZID=Europe/Amsterdam:20250508T210000
SUMMARY:Best - Europa en de Brainport regio
DESCRIPTION:Het team van Volt Best timmert de laatste tijd behoorlijk aan d
 e weg en start nu met kwartaallezingen! Op donderdag 8 mei komt als gastspr
 eker Robin Brokmann naar de bibliotheek in Best. Robin is Volt gemeenteraad
 slid in Eindhoven en zal vertellen over de invloed van Europa op de Brainpo
 rt regio. Hij heeft samen met Tjeerd Ritmeester van PvdA Eindhoven het init
 iatiefvoorstel ‘Internationale Strategie voor Eindhoven’ geschreven. Da
 arnaast zal Robin ook vertellen over zijn werk als Volt raadslid. 
LOCATION:Best\, bibliotheek\, Raadhuisplein 32\, 5683 EA Best
URL:https://voltnederland.org/brabant/agenda/best-europa-en-de-brainport-re
 gio
END:VEVENT
END:VCALENDAR
