BEGIN:VCALENDAR
VERSION:2.0
PRODID:-//Volt Europa//Events//EN
CALSCALE:GREGORIAN
METHOD:PUBLISH
BEGIN:VEVENT
UID:beleidsavond-zuid-holland-wonen-1781110800@voltnederland.org
DTSTAMP:20260425T233157Z
DTSTART;TZID=Europe/Amsterdam:20260610T190000
DTEND;TZID=Europe/Amsterdam:20260610T210000
SUMMARY:Beleidsavond Zuid-Holland: Wonen 🏠
DESCRIPTION:Op  10 juni  organiseert Volt Zuid-Holland een beleidsavond ove
 r  wonen . Tijdens deze bijeenkomst bespreken we actuele uitdagingen en kan
 sen en gaan we samen met leden en experts in gesprek over de toekomst van Z
 uid-Holland. De provincie speelt bijvoorbeeld een belangrijke rol op het ge
 bied van het verbeteren van   betaalbaar wonen\, duurzaam bouwen en innova
 tieve woonoplossingen. Vanuit een toekomstbeeld van hoe Zuid-Holland er in 
 2100 uit kan zien\, bespreken we welke stappen vandaag nodig zijn
LOCATION:Provinciehuis Zuid-Holland (Zuid-Hollandplein 1\, Den Haag)
URL:https://voltnederland.org/zuid-holland/agenda/beleidsavond-zuid-holland
 -wonen
END:VEVENT
END:VCALENDAR
