BEGIN:VCALENDAR
VERSION:2.0
PRODID:-//Volt Europa//Events//EN
CALSCALE:GREGORIAN
METHOD:PUBLISH
BEGIN:VEVENT
UID:beleidsavond-zuid-holland-ruimte-1781715600@voltnederland.org
DTSTAMP:20260425T233725Z
DTSTART;TZID=Europe/Amsterdam:20260617T190000
DTEND;TZID=Europe/Amsterdam:20260617T210000
SUMMARY:Beleidsavond Zuid-Holland: Ruimte 🏙️
DESCRIPTION:Op  17 juni  organiseert Volt Zuid-Holland een beleidsavond ove
 r  ruimte . Tijdens deze bijeenkomst gaan we met elkaar in gesprek over de 
 toekomst van ruimte in Zuid-Holland. Deze sessie vormt een vervolg op de e
 erdere bijeenkomsten. We kijken terug op de voorgaande beleidsavonden en be
 spreken hoe we deze ambities kunnen inpassen in de schaarse ruimte van de d
 ichtstbevolkte provincie van Nederland\, en welke keuzes dat vraagt. Vanuit
  een toekomstbeeld van hoe Zuid-Holland er in 2100 uit kan zien\,
LOCATION:Provinciehuis Zuid-Holland (Zuid-Hollandplein 1\, Den Haag)
URL:https://voltnederland.org/zuid-holland/agenda/beleidsavond-zuid-holland
 -ruimte
END:VEVENT
END:VCALENDAR
